BEGIN:VCALENDAR
VERSION:2.0
PRODID:-//Jugendhaus Wörthsee - ECPv6.5.1.5//NONSGML v1.0//EN
CALSCALE:GREGORIAN
METHOD:PUBLISH
X-ORIGINAL-URL:https://www.jh-woerthsee.de
X-WR-CALDESC:Veranstaltungen für Jugendhaus Wörthsee
REFRESH-INTERVAL;VALUE=DURATION:PT1H
X-Robots-Tag:noindex
X-PUBLISHED-TTL:PT1H
BEGIN:VTIMEZONE
TZID:Europe/Berlin
BEGIN:DAYLIGHT
TZOFFSETFROM:+0100
TZOFFSETTO:+0200
TZNAME:CEST
DTSTART:20220327T010000
END:DAYLIGHT
BEGIN:STANDARD
TZOFFSETFROM:+0200
TZOFFSETTO:+0100
TZNAME:CET
DTSTART:20221030T010000
END:STANDARD
BEGIN:DAYLIGHT
TZOFFSETFROM:+0100
TZOFFSETTO:+0200
TZNAME:CEST
DTSTART:20230326T010000
END:DAYLIGHT
BEGIN:STANDARD
TZOFFSETFROM:+0200
TZOFFSETTO:+0100
TZNAME:CET
DTSTART:20231029T010000
END:STANDARD
BEGIN:DAYLIGHT
TZOFFSETFROM:+0100
TZOFFSETTO:+0200
TZNAME:CEST
DTSTART:20240331T010000
END:DAYLIGHT
BEGIN:STANDARD
TZOFFSETFROM:+0200
TZOFFSETTO:+0100
TZNAME:CET
DTSTART:20241027T010000
END:STANDARD
END:VTIMEZONE
BEGIN:VEVENT
DTSTART;VALUE=DATE:20240811
DTEND;VALUE=DATE:20240813
DTSTAMP:20260421T130513
CREATED:20240806T203257Z
LAST-MODIFIED:20240806T205749Z
UID:3223-1723352400-1723438799@www.jh-woerthsee.de
SUMMARY:Programmierung Lichtanlage (Workshop)
DESCRIPTION:
URL:https://www.jh-woerthsee.de/event/programmierung-lichtanlage-workshop/
LOCATION:Jugendhaus Wörthsee\, Graf-Toerring-Str. 13\, Wörthsee\, Bayern\, 82237\, Deutschland
CATEGORIES:Arbeiten,Renovierungsarbeiten,Workshop
ORGANIZER;CN="Sprecherrat Jugendhaus W%C3%B6rthsee e.V.":MAILTO:info@jh-woerthsee.de
END:VEVENT
BEGIN:VEVENT
DTSTART;TZID=Europe/Berlin:20240319T190000
DTEND;TZID=Europe/Berlin:20240319T200000
DTSTAMP:20260421T130513
CREATED:20240806T203006Z
LAST-MODIFIED:20240806T203525Z
UID:3221-1710874800-1710878400@www.jh-woerthsee.de
SUMMARY:Neuwahl des Trägervereins
DESCRIPTION:
URL:https://www.jh-woerthsee.de/event/neuwahl-des-traegervereins-maerz-2024/
LOCATION:Jugendhaus Wörthsee\, Graf-Toerring-Str. 13\, Wörthsee\, Bayern\, 82237\, Deutschland
CATEGORIES:Trägervereinswahlen,Wahlen
ORGANIZER;CN="Tr%C3%A4gerverein Jugendhaus W%C3%B6rthsee e.V.":MAILTO:traegerverein@jh-woerthsee.de
END:VEVENT
BEGIN:VEVENT
DTSTART;VALUE=DATE:20240308
DTEND;VALUE=DATE:20240312
DTSTAMP:20260421T130513
CREATED:20240806T204655Z
LAST-MODIFIED:20240806T204710Z
UID:3229-1709874000-1710133199@www.jh-woerthsee.de
SUMMARY:Jugendleitergrundkurs Teil 2
DESCRIPTION:
URL:https://www.jh-woerthsee.de/event/jugendleitergrundkurs-teil-2-2024/
LOCATION:Jugendbergheim Max Irlinger Hütte\, Starnberger Hütte 1 (Scherenauer Leine)\, Unterammergau\, 82497\, Deutschland
CATEGORIES:Jugendleiter Grundkurs,Workshop
END:VEVENT
BEGIN:VEVENT
DTSTART;VALUE=DATE:20240301
DTEND;VALUE=DATE:20240305
DTSTAMP:20260421T130513
CREATED:20240806T204421Z
LAST-MODIFIED:20240806T204526Z
UID:3225-1709269200-1709528399@www.jh-woerthsee.de
SUMMARY:Jugendleitergrundkurs Teil 1
DESCRIPTION:
URL:https://www.jh-woerthsee.de/event/jugendleitergrundkurs-teil-1-2024/
LOCATION:Jugendbergheim Max Irlinger Hütte\, Starnberger Hütte 1 (Scherenauer Leine)\, Unterammergau\, 82497\, Deutschland
CATEGORIES:Jugendleiter Grundkurs,Workshop
END:VEVENT
BEGIN:VEVENT
DTSTART;TZID=Europe/Berlin:20231209T140000
DTEND;TZID=Europe/Berlin:20231210T190000
DTSTAMP:20260421T130513
CREATED:20240806T200226Z
LAST-MODIFIED:20240806T200226Z
UID:3199-1702130400-1702234800@www.jh-woerthsee.de
SUMMARY:Weihnachtsmarkt 2023
DESCRIPTION:
URL:https://www.jh-woerthsee.de/event/weihnachtsmarkt-2023/
LOCATION:Gemeinde Wörthsee (Rathaus)\, Seestraße 20\, Wörthsee\, 82237\, Deutschland
CATEGORIES:Andere Veranstaltung
END:VEVENT
BEGIN:VEVENT
DTSTART;VALUE=DATE:20231117
DTEND;VALUE=DATE:20231206
DTSTAMP:20260421T130513
CREATED:20240806T201957Z
LAST-MODIFIED:20241015T184813Z
UID:3213-1700197200-1701752399@www.jh-woerthsee.de
SUMMARY:Weihnachtshüttenbau
DESCRIPTION:
URL:https://www.jh-woerthsee.de/event/weihnachtshuettenbau/
LOCATION:Jugendhaus Wörthsee\, Graf-Toerring-Str. 13\, Wörthsee\, Bayern\, 82237\, Deutschland
CATEGORIES:Arbeiten,Gestalterische Arbeiten,Workshop
ORGANIZER;CN="Sprecherrat Jugendhaus W%C3%B6rthsee e.V.":MAILTO:info@jh-woerthsee.de
END:VEVENT
BEGIN:VEVENT
DTSTART;TZID=Europe/Berlin:20230805T193000
DTEND;TZID=Europe/Berlin:20230806T020000
DTSTAMP:20260421T130513
CREATED:20240806T202130Z
LAST-MODIFIED:20240806T205532Z
UID:3216-1691263800-1691287200@www.jh-woerthsee.de
SUMMARY:Big Party
DESCRIPTION:
URL:https://www.jh-woerthsee.de/event/big-party/
LOCATION:Jugendhaus Wörthsee\, Graf-Toerring-Str. 13\, Wörthsee\, Bayern\, 82237\, Deutschland
CATEGORIES:Öffentliche Party,Party
ORGANIZER;CN="Sprecherrat Jugendhaus W%C3%B6rthsee e.V.":MAILTO:info@jh-woerthsee.de
END:VEVENT
BEGIN:VEVENT
DTSTART;VALUE=DATE:20230513
DTEND;VALUE=DATE:20230515
DTSTAMP:20260421T130513
CREATED:20240806T202350Z
LAST-MODIFIED:20240806T203622Z
UID:3218-1683954000-1684040399@www.jh-woerthsee.de
SUMMARY:Ramadama in und ums Jugendhaus
DESCRIPTION:
URL:https://www.jh-woerthsee.de/event/ramadama-in-und-ums-jugendhaus/
LOCATION:Jugendhaus Wörthsee\, Graf-Toerring-Str. 13\, Wörthsee\, Bayern\, 82237\, Deutschland
CATEGORIES:Arbeiten,Aufräumarbeiten
ORGANIZER;CN="Sprecherrat Jugendhaus W%C3%B6rthsee e.V.":MAILTO:info@jh-woerthsee.de
END:VEVENT
BEGIN:VEVENT
DTSTART;TZID=Europe/Berlin:20230421T180000
DTEND;TZID=Europe/Berlin:20230421T183000
DTSTAMP:20260421T130513
CREATED:20240806T201742Z
LAST-MODIFIED:20240806T201805Z
UID:3211-1682100000-1682101800@www.jh-woerthsee.de
SUMMARY:Neuwahl des Sprecherrats
DESCRIPTION:
URL:https://www.jh-woerthsee.de/event/neuwahl-des-sprecherrats-april-2023/
LOCATION:Jugendhaus Wörthsee\, Graf-Toerring-Str. 13\, Wörthsee\, Bayern\, 82237\, Deutschland
CATEGORIES:Sprecherratswahlen,Wahlen
ORGANIZER;CN="Sprecherrat Jugendhaus W%C3%B6rthsee e.V.":MAILTO:info@jh-woerthsee.de
END:VEVENT
BEGIN:VEVENT
DTSTART;TZID=Europe/Berlin:20230302T190000
DTEND;TZID=Europe/Berlin:20230302T210000
DTSTAMP:20260421T130513
CREATED:20240806T201435Z
LAST-MODIFIED:20240806T201435Z
UID:3208-1677783600-1677790800@www.jh-woerthsee.de
SUMMARY:Infoveranstaltung
DESCRIPTION:
URL:https://www.jh-woerthsee.de/event/infoveranstaltung/
LOCATION:Jugendhaus Wörthsee\, Graf-Toerring-Str. 13\, Wörthsee\, Bayern\, 82237\, Deutschland
CATEGORIES:Info-Veranstaltung
ATTACH;FMTTYPE=image/jpeg:https://www.jh-woerthsee.de/wp-content/uploads/2024/08/Infoveranstaltung-2023.jpg
ORGANIZER;CN="Tr%C3%A4gerverein Jugendhaus W%C3%B6rthsee e.V.":MAILTO:traegerverein@jh-woerthsee.de
END:VEVENT
BEGIN:VEVENT
DTSTART;VALUE=DATE:20230103
DTEND;VALUE=DATE:20230105
DTSTAMP:20260421T130513
CREATED:20240806T200615Z
LAST-MODIFIED:20240806T205758Z
UID:3205-1672722000-1672808399@www.jh-woerthsee.de
SUMMARY:Aufbau Lichtanlage (Traversen und Moving Heads)
DESCRIPTION:Die Moving Heads (freundlicherweise gesponsert von Advantech DLoG!) und Traversen wurden angebracht.
URL:https://www.jh-woerthsee.de/event/aufbau-lichtanlage-traversen-und-moving-heads/
LOCATION:Jugendhaus Wörthsee\, Graf-Toerring-Str. 13\, Wörthsee\, Bayern\, 82237\, Deutschland
CATEGORIES:Arbeiten,Renovierungsarbeiten
ORGANIZER;CN="Sprecherrat Jugendhaus W%C3%B6rthsee e.V.":MAILTO:info@jh-woerthsee.de
END:VEVENT
BEGIN:VEVENT
DTSTART;TZID=Europe/Berlin:20221203T140000
DTEND;TZID=Europe/Berlin:20221205T190000
DTSTAMP:20260421T130513
CREATED:20240806T195616Z
LAST-MODIFIED:20240806T200244Z
UID:3194-1670076000-1670266800@www.jh-woerthsee.de
SUMMARY:Weihnachtsmarkt 2022
DESCRIPTION:
URL:https://www.jh-woerthsee.de/event/weihnachtsmarkt-2022/
LOCATION:Gemeinde Wörthsee (Rathaus)\, Seestraße 20\, Wörthsee\, 82237\, Deutschland
CATEGORIES:Andere Veranstaltung
END:VEVENT
BEGIN:VEVENT
DTSTART;VALUE=DATE:20221012
DTEND;VALUE=DATE:20221021
DTSTAMP:20260421T130513
CREATED:20240806T200135Z
LAST-MODIFIED:20240806T205933Z
UID:3203-1665550800-1666241999@www.jh-woerthsee.de
SUMMARY:Streichen der Innenwände
DESCRIPTION:
URL:https://www.jh-woerthsee.de/event/streichen-der-innenwaende/
LOCATION:Jugendhaus Wörthsee\, Graf-Toerring-Str. 13\, Wörthsee\, Bayern\, 82237\, Deutschland
CATEGORIES:Arbeiten,Gestalterische Arbeiten,Renovierungsarbeiten
END:VEVENT
BEGIN:VEVENT
DTSTART;VALUE=DATE:20220808
DTEND;VALUE=DATE:20220822
DTSTAMP:20260421T130513
CREATED:20240806T200304Z
LAST-MODIFIED:20240806T205815Z
UID:3201-1659934800-1661057999@www.jh-woerthsee.de
SUMMARY:Boxenbau-Workshop mit Ralf Seibert (Soundanlage)
DESCRIPTION:
URL:https://www.jh-woerthsee.de/event/boxenbau-workshop-mit-ralf-seibert-soundanlage/
LOCATION:Jugendhaus Wörthsee\, Graf-Toerring-Str. 13\, Wörthsee\, Bayern\, 82237\, Deutschland
CATEGORIES:Arbeiten,Renovierungsarbeiten,Workshop
ORGANIZER;CN="Sprecherrat Jugendhaus W%C3%B6rthsee e.V.":MAILTO:info@jh-woerthsee.de
END:VEVENT
END:VCALENDAR